BEGIN:VCALENDAR
VERSION:2.0
PRODID:-//Wendeschleife – Klimagarten im Quartier - ECPv6.0.9//NONSGML v1.0//EN
CALSCALE:GREGORIAN
METHOD:PUBLISH
X-WR-CALNAME:Wendeschleife – Klimagarten im Quartier
X-ORIGINAL-URL:http://wendeschleife-drewitz.de
X-WR-CALDESC:Veranstaltungen für Wendeschleife – Klimagarten im Quartier
REFRESH-INTERVAL;VALUE=DURATION:PT1H
X-Robots-Tag:noindex
X-PUBLISHED-TTL:PT1H
BEGIN:VTIMEZONE
TZID:Europe/Berlin
BEGIN:DAYLIGHT
TZOFFSETFROM:+0100
TZOFFSETTO:+0200
TZNAME:CEST
DTSTART:20210328T010000
END:DAYLIGHT
BEGIN:STANDARD
TZOFFSETFROM:+0200
TZOFFSETTO:+0100
TZNAME:CET
DTSTART:20211031T010000
END:STANDARD
END:VTIMEZONE
BEGIN:VEVENT
DTSTART;TZID=Europe/Berlin:20210401T080000
DTEND;TZID=Europe/Berlin:20210630T170000
DTSTAMP:20260424T202243
CREATED:20210424T170553Z
LAST-MODIFIED:20210424T170554Z
UID:747-1617264000-1625072400@wendeschleife-drewitz.de
SUMMARY:Mein Drewitz im Frühling
DESCRIPTION:Nach dem großen Erfolg des Winterfoto-Wettbewerbs geht’s nun in die Frühjahrs-Runde! Wohl kaum eine Jahreszeit verändert in ihrem Verlauf das Gesicht so rasant wie der Frühling. Wie zeigt sich für euch die Vielseitigkeit des Frühjahrs in Drewitz? Fangt mit der Kamera ein\, was ihr nur im April\, Mai und Juni zu sehen bekommt und schickt uns eure Lieb-lingsmotive.Lasst dabei eurer Kreativität ruhig freien Lauf: Es wird nicht zwangsläufig nur das „typischste“ oder „hübscheste“ Bild gekürt. Um eine Jahreszeit repräsentieren zu können\, muss es ganz bestimmt mehrere erste Plätze geben… 😉 Scheut euch also nicht\, auch etwas unkonventionellere Bilder vom Frühling zu machen. \n\n\n\nTeilnahme: Pro Person bis zu drei Fotos\, jeweils mit Titel\, an team@wendeschleife-drewitz.de \n\n\n\nEinsendeschluss: 30. Juni 2021 \n\n\n\nWir sind schon sehr gespannt und freuen uns auf eure Einsendungen\, die wir auch wieder für eine kleine Ausstellung verwenden.
URL:http://wendeschleife-drewitz.de/termin/mein-drewitz-im-fruehling/
LOCATION:Brandenburg
ATTACH;FMTTYPE=image/jpeg:http://wendeschleife-drewitz.de/wp-content/uploads/2021/04/camera-2598507_1920.jpg
ORGANIZER;CN="Team%20Wendeschleife":MAILTO:team@wendeschleife-drewitz.de
END:VEVENT
BEGIN:VEVENT
DTSTART;TZID=Europe/Berlin:20210406T110000
DTEND;TZID=Europe/Berlin:20210408T140000
DTSTAMP:20260424T202243
CREATED:20210222T155005Z
LAST-MODIFIED:20210222T155006Z
UID:568-1617706800-1617890400@wendeschleife-drewitz.de
SUMMARY:Ferienprogramm „Kräuterbeet für Quartier 13“
DESCRIPTION:Wer möchte dabei sein\, wenn im Essbaren Innenhof (Quartier 13) eine neue Kräuterfläche entsteht? Den sonnigen Hügelchen direkt an der Sitz-Pergola gestalten wir gemeinsam mit einem großen Terrassen-Beet für Rosmarin\, Oregano & Co. An drei aufeinanderfolgenden Tagen wird gebuddelt\, geschleppt\, gebaut und gepflanzt.  \n\n\n\nFürs Ackern gibt’s natürlich auch eine gute Verpflegung. Ferienkinder mit und ohne ihre Familien\, aber auch alle Nachbarinnen und Nachbarn sind herzlich eingeladen. Die Teilnahme ist auch an einzelnen Tagen möglich. \n\n\n\nAnmeldung: Bitte bis zum 31.03. anmelden; auch für einzelne Tage möglich!
URL:http://wendeschleife-drewitz.de/termin/ferienprogramm-kraeuterbeet-fuer-quartier-13/
LOCATION:Brandenburg
ORGANIZER;CN="Team%20Wendeschleife":MAILTO:team@wendeschleife-drewitz.de
END:VEVENT
BEGIN:VEVENT
DTSTART;TZID=Europe/Berlin:20210414T160000
DTEND;TZID=Europe/Berlin:20210414T173000
DTSTAMP:20260424T202243
CREATED:20210414T082154Z
LAST-MODIFIED:20210414T082155Z
UID:691-1618416000-1618421400@wendeschleife-drewitz.de
SUMMARY:Gartentreff - offenes Gärtnern
DESCRIPTION:Jeder ist eingeladen mitzugärtnern\, im Klimagarten und in den Essbaren Innenhöfen – immer mittwochs! Abweichende Einsatzorte oder besondere Mini-Aktionen veröffentlichen wir vorab auf unserem Blog. Wegen Corona meldet euch bitte an\, wenn ihr zum offenen Gärtnern kommen wollt.
URL:http://wendeschleife-drewitz.de/termin/gartentreff-offenes-gaertnern-5/
LOCATION:Brandenburg
ATTACH;FMTTYPE=image/jpeg:http://wendeschleife-drewitz.de/wp-content/uploads/2020/03/Fläche.jpg
END:VEVENT
BEGIN:VEVENT
DTSTART;TZID=Europe/Berlin:20210421T160000
DTEND;TZID=Europe/Berlin:20210421T173000
DTSTAMP:20260424T202243
CREATED:20210414T082458Z
LAST-MODIFIED:20210414T082459Z
UID:693-1619020800-1619026200@wendeschleife-drewitz.de
SUMMARY:Gartentreff - offenes Gärtnern
DESCRIPTION:Jeder ist eingeladen mitzugärtnern\, im Klimagarten und in den Essbaren Innenhöfen – immer mittwochs! Abweichende Einsatzorte oder besondere Mini-Aktionen veröffentlichen wir vorab auf unserem Blog. Wegen Corona meldet euch bitte an\, wenn ihr zum offenen Gärtnern kommen wollt.
URL:http://wendeschleife-drewitz.de/termin/gartentreff-offenes-gaertnern-6/
LOCATION:Brandenburg
ATTACH;FMTTYPE=image/jpeg:http://wendeschleife-drewitz.de/wp-content/uploads/2020/06/20200331_141728_klein-rotated.jpg
END:VEVENT
BEGIN:VEVENT
DTSTART;TZID=Europe/Berlin:20210424T100000
DTEND;TZID=Europe/Berlin:20210424T130000
DTSTAMP:20260424T202243
CREATED:20210416T074512Z
LAST-MODIFIED:20210423T150751Z
UID:698-1619258400-1619269200@wendeschleife-drewitz.de
SUMMARY:Drewitzer Frühjahrsputz
DESCRIPTION:Wir halten unseren Stadtteil sauber. Am Samstag sind alle DrewitzerInnen eingeladen die Grün- und Freiflächen auf Hochglanz zu polieren. Ihr könnt euch von 10:00 – 12:30 Uhr auf der Wendeschleife Müllsäcke abholen und dann der Schmuddelecke eures Vertrauens den Kampf ansagen. Ein paar Müllgreifer geben wir ebenfalls aus und Handschuhe falls ihr wollt. Für alle fleisigen HelferInnen unterstützt `Presse im HNC´ und die `Aktionsgemeinschaft Gartenstadt Drewitz´ den Frühjahrsputz in Drewitz mit  \n\n\n\nGutscheinen für 1 Kaffee/Cappuccino/Kakao/kleines Wasser/Apfelschorle. \n\n\n\nFür eine kleine Pause zwischendurch – einzulösen im Presseshop im HNC. \n\n\n\nAlso nichts wie los! Ein kleiner Hinweis noch: Es sammelt immer ein Haushalt für sich plus maximal eine weitere Person. Ihr kennt mittlerweile alle die Vorgaben gut. Bitte tragt Mundschutz und achtet auf den Abstand beim Abholen der Greifer und Müllsäcke\, damit da nichts schiefgeht. \n\n\n\nWir freuen uns auf euch!
URL:http://wendeschleife-drewitz.de/termin/drewitzer-fruehjahrsputz/
LOCATION:Brandenburg
ATTACH;FMTTYPE=image/jpeg:http://wendeschleife-drewitz.de/wp-content/uploads/2021/04/Drewitzer-Fruehjahrsputz2021-scaled.jpg
ORGANIZER;CN="Team%20Wendeschleife":MAILTO:team@wendeschleife-drewitz.de
END:VEVENT
BEGIN:VEVENT
DTSTART;TZID=Europe/Berlin:20210428T160000
DTEND;TZID=Europe/Berlin:20210428T173000
DTSTAMP:20260424T202243
CREATED:20210414T082737Z
LAST-MODIFIED:20210423T142128Z
UID:695-1619625600-1619631000@wendeschleife-drewitz.de
SUMMARY:Gartentreff - Offenes Gärtnern
DESCRIPTION:Bis auf Weiteres wird das „Offene Gärtnern“ ausgesetzt. Die Beetbetreuung kann individuell stattfinden unter Einhaltung der geltenden Eindämmungsverordnung. Bitte haltet euch an die Hygienevorgaben für die Wendeschleife. Sie sind am Infoschild veröffentlicht. \n\n\n\nJeder ist eingeladen mitzugärtnern\, im Klimagarten und in den Essbaren Innenhöfen – immer mittwochs! Abweichende Einsatzorte oder besondere Mini-Aktionen veröffentlichen wir vorab auf unserem Blog. Wenn ihr Fragen habt\, dann schreibt uns oder ruft kurz an.
URL:http://wendeschleife-drewitz.de/termin/gartentreff-offenes-gaertnern-7/
LOCATION:Brandenburg
ATTACH;FMTTYPE=image/jpeg:http://wendeschleife-drewitz.de/wp-content/uploads/2021/03/IMG_3354-scaled.jpg
END:VEVENT
BEGIN:VEVENT
DTSTART;TZID=Europe/Berlin:20210428T180000
DTEND;TZID=Europe/Berlin:20210428T193000
DTSTAMP:20260424T202243
CREATED:20210423T150617Z
LAST-MODIFIED:20210423T150617Z
UID:714-1619632800-1619638200@wendeschleife-drewitz.de
SUMMARY:Gartenstammtisch
DESCRIPTION:Seid dabei beim Drewitzer Garten-Stammtisch! Der Stammtisch bietet einen Raum zum Kennenlernen und Vernetzen. Eingeladen sind alle\, die Freude oder Interesse am Gärtnern haben.  \n\n\n\nDer Stammtisch findet immer am letzten Mittwoch im Monat von 18:00 Uhr  bis 19:30 Uhr statt – Vorerst natürlich digital über zoom. Auch wenn wir noch kein geselliges Beisammensein wagen\, können wir auf diese Weise langsam die ersten Schritte Richtung Gartensaison gehen. \n\n\n\nHinweis: Wenn für euch eine Teilnahme über das Internet nicht möglich ist\, meldet euch gern bei uns und wir suchen gemeinsam eine individuell passende Lösung! \n\n\n\nAnmeldung: team@wendeschleife-drewitz.de (E-Mail); 017632388706 (Telefon); für Informationen zum Zugang \n\n\n\nTeilnahme: Kostenlos; über Zoom-Konferenz
URL:http://wendeschleife-drewitz.de/termin/gartenstammtisch/
LOCATION:Brandenburg
ATTACH;FMTTYPE=image/jpeg:http://wendeschleife-drewitz.de/wp-content/uploads/2020/08/rust-261167_1280.jpg
ORGANIZER;CN="Team%20Wendeschleife":MAILTO:team@wendeschleife-drewitz.de
END:VEVENT
END:VCALENDAR