BEGIN:VCALENDAR
VERSION:2.0
PRODID:-//Wendeschleife – Klimagarten im Quartier - ECPv6.0.9//NONSGML v1.0//EN
CALSCALE:GREGORIAN
METHOD:PUBLISH
X-ORIGINAL-URL:http://wendeschleife-drewitz.de
X-WR-CALDESC:Veranstaltungen für Wendeschleife – Klimagarten im Quartier
REFRESH-INTERVAL;VALUE=DURATION:PT1H
X-Robots-Tag:noindex
X-PUBLISHED-TTL:PT1H
BEGIN:VTIMEZONE
TZID:Europe/Berlin
BEGIN:DAYLIGHT
TZOFFSETFROM:+0100
TZOFFSETTO:+0200
TZNAME:CEST
DTSTART:20210328T010000
END:DAYLIGHT
BEGIN:STANDARD
TZOFFSETFROM:+0200
TZOFFSETTO:+0100
TZNAME:CET
DTSTART:20211031T010000
END:STANDARD
END:VTIMEZONE
BEGIN:VEVENT
DTSTART;TZID=Europe/Berlin:20210101T000000
DTEND;TZID=Europe/Berlin:20210228T235959
DTSTAMP:20260424T232610
CREATED:20210128T104800Z
LAST-MODIFIED:20210128T120012Z
UID:474-1609459200-1614556799@wendeschleife-drewitz.de
SUMMARY:Fotowettbewerb "Mein Drewitz im Winter"
DESCRIPTION:Unser Jahreszeiten – Fotowettbewerb für die Wintermonate läuft noch bis Ende Februar. Daher schickt uns Fotos\, die zeigen\, wie ihr euren Stadtteil in der kalten Jahreszeit wahrnehmt. Schnappt euch eure Kamera oder das Handy und fotografiert beim nächsten Spaziergang Dinge\, die euch ins Auge fallen. Ob Plätze\, Orte\, Tiere\, Pflanzen\, Technisches oder Natürliches – teilt euren Blick auf Drewitz mit uns! Aus eurem Fenster oder vom Balkon…egal wie\, nur eines ist zu beachten: Es sollte ein Draußen – Foto sein! \n\n\n\nFoto: Andreas Zurell\n\n\n\nAlle Fotos werden zu einer kleinen Vernissage zusammengestellt und das „schönste“ Foto prämiert. Es wartet eine kleine Überraschung auf den oder die Gewinner-Fotograf*in. Also nichts wie raus mit euch! \n\n\n\nEinsendeschluss ist der 28.02.2021. Einzusenden an team@wendeschleife-drewitz.de
URL:http://wendeschleife-drewitz.de/termin/mein-drewitz-im-winter/
LOCATION:Brandenburg
ATTACH;FMTTYPE=image/jpeg:http://wendeschleife-drewitz.de/wp-content/uploads/2021/01/IMG_3225-scaled.jpg
ORGANIZER;CN="Team%20Wendeschleife":MAILTO:team@wendeschleife-drewitz.de
END:VEVENT
BEGIN:VEVENT
DTSTART;TZID=Europe/Berlin:20210203T160000
DTEND;TZID=Europe/Berlin:20210203T180000
DTSTAMP:20260424T232610
CREATED:20210201T110722Z
LAST-MODIFIED:20210201T171821Z
UID:504-1612368000-1612375200@wendeschleife-drewitz.de
SUMMARY:Winterliche Blumensträuße binden mit Tina
DESCRIPTION:Tina zeigt uns Profitricks und -techniken\, wie man wunderschöne Blumensträuße bindet. Das Besondere: wir verwenden dabei ausschließlich Pflanzen aus dem winterlichen Drewitz! Ihr könnt gespannt sein\, was man zu dieser Jahreszeit alles findet und wunderbar in einen kleinen Strauß binden kann.  \n\n\n\n\n\n\n\nTeilnahme: Die Anleitung mit Materialliste veröffentlichen wir vorab auf unserem Blog als Video. Ihr könnt die Anleitung also dann nutzen\, wenn ihr Zeit habt.   \n\n\n\nAm Mittwoch (10.02.) von 16:00 – 18:00 Uhr erreicht ihr Tina für Tipps auch über unser Wendeschleifen-Handy. Sie beantwortet gerne Fragen die ihr habt und hilft euch bei den Arbeitsschritten. \n\n\n\nMaterialpaket: Gegen eine kleine Spende; bei Bedarf mailt an wendeschleife@oskar-drewitz.de zur Vereinbarung eines Abholtermins im oskar.
URL:http://wendeschleife-drewitz.de/termin/winterliche-blumenstraeusse-binden-mit-tina/
LOCATION:Brandenburg
ATTACH;FMTTYPE=image/jpeg:http://wendeschleife-drewitz.de/wp-content/uploads/2021/02/IMG_3250-scaled.jpg
ORGANIZER;CN="Team%20Wendeschleife":MAILTO:team@wendeschleife-drewitz.de
END:VEVENT
BEGIN:VEVENT
DTSTART;TZID=Europe/Berlin:20210210T160000
DTEND;TZID=Europe/Berlin:20210210T180000
DTSTAMP:20260424T232610
CREATED:20210201T114041Z
LAST-MODIFIED:20210210T092235Z
UID:506-1612972800-1612980000@wendeschleife-drewitz.de
SUMMARY:Sauerteig-Brot backen
DESCRIPTION:Für unseren MitMach Mitwoch haben wir uns heute das Brotbacken ausgesucht. Ja\, und wir trauen uns beim Brotbacken schon etwas zu und wagen uns an den Sauerteig. Sauerteig lässt sich selbst herstellen. Dafür benötigt ihr lediglich Mehl und Wasser. Der Ablauf ist hier sehr gut beschrieben: SMARTICULAR. Wichtig ist die konstante Temperatur und das saubere Arbeiten\, damit kein Schimmelpilz den Sauerteig kaputt macht. \n\n\n\nWir konzentrieren uns aber lieber auf das Backen und haben für euch Sauerteig vorbereitet\, den ihr direkt verwenden könnt. Er stammt aus dem schönen Sachsenland und wird dort schon seit vielen Jahrzehnten zum Backen verwendet. Ein echtes Kulturgut\, wenn man so will! Es handelt sich um einen Roggen-Sauerteig. \n\n\n\nUnsere Live – Betreuung findet wie immer telefonisch statt. Ruft uns an\, wenn ihr Fragen habt: Mittwoch\, 10.02. zwischen 16:00 – 18:00 Uhr. \n\n\n\nAchtung: Wer rechtzeitig Sauerteig von uns bekommen möchte (Materialpaket)\, vereinbart bitte einen Abholtermin mit uns. \n\n\n\nTeilnahme: Die Anleitung mit Materialliste als pdf veröffentlichen wir vorab auf unserem Blog. \n\n\n\nMaterialpaket: Gegen eine kleine Spende; bei Bedarf bitte an team@wendeschleife-drewitz.de zur Vereinbarung eines Abholtermins im oskar. schreiben.
URL:http://wendeschleife-drewitz.de/termin/sauerteig-brot-backen/
LOCATION:Brandenburg
ATTACH;FMTTYPE=image/jpeg:http://wendeschleife-drewitz.de/wp-content/uploads/2021/02/IMG_7199-scaled.jpg
ORGANIZER;CN="Team%20Wendeschleife":MAILTO:team@wendeschleife-drewitz.de
END:VEVENT
BEGIN:VEVENT
DTSTART;TZID=Europe/Berlin:20210217T160000
DTEND;TZID=Europe/Berlin:20210217T180000
DTSTAMP:20260424T232610
CREATED:20210201T114508Z
LAST-MODIFIED:20210201T114653Z
UID:508-1613577600-1613584800@wendeschleife-drewitz.de
SUMMARY:Waldbaden
DESCRIPTION:Baden? Im Februar?! Keine Sorge\, hier geht es nicht um Schwimmen im Wasser\, sondern um das wohltuende Eintauchen in die Atmosphäre des winterlichen Waldes. Einfach mal die frische Luft aufsaugen und die Natur genießen. Andreas vom Wendeschleife-Team führt euch an diesem besonderen „MitMach – Mittwoch“ durch den Ausflug. Entweder schon wieder live und in Farbe oder über eine kontaktlose Anleitung – je nachdem\, wie es mit dem Lockdown bis dahin aussieht. \n\n\n\nAnmeldung: Bei Interesse erforderlich bis Freitag\, den 12.02. per E-Mail an team@wendeschleife-drewitz.de\, damit wir Interessierte hinsichtlich der Rahmenbedingungen der Aktion auf dem Laufenden halten können. Der Ort wird nach Anmeldung individuell bekannt gegeben. \n\n\n\nTeilnahme: Kostenlos\, gerne nehmen wir eine kleine Spende; bei kontaktloser Variante veröffentlichen wir die Anleitung vorab auf unserem Blog
URL:http://wendeschleife-drewitz.de/termin/waldbaden/
LOCATION:Brandenburg
ORGANIZER;CN="Team%20Wendeschleife":MAILTO:team@wendeschleife-drewitz.de
END:VEVENT
BEGIN:VEVENT
DTSTART;TZID=Europe/Berlin:20210224T160000
DTEND;TZID=Europe/Berlin:20210303T180000
DTSTAMP:20260424T232610
CREATED:20210201T115024Z
LAST-MODIFIED:20210207T155818Z
UID:511-1614182400-1614794400@wendeschleife-drewitz.de
SUMMARY:Gartentreff *online*: Digitale Tauschwoche für Saatgut\, Stecklinge & Co.
DESCRIPTION:Zu viele Chili-Samen aber keine Tomaten? Thymian on masse aber Zitronen-Melisse fehlt noch? Wir starten eine interaktive Tauschbörse für Saatgut\, Pflanzenableger & Co. \n\n\n\nDas Prinzip:1. Wer etwas abzugeben hat\, bringt es ab sofort im oskar. vorbei.Achtung: Hierfür bitte Termin per team@wendeschleife-drewitz.de oder telefonisch mit uns vereinbaren! \n\n\n\n2. Wir sammeln alles und veröffentlichen am Mittwoch\, den 24.02. um 16:00 Uhr eine Übersicht auf unserer Homepage. \n\n\n\n3. Eine Woche lang könnt ihr stöbern und wenn etwas dabei ist\, mit uns wiederum jederzeit einen Abholtermin dafür vereinbaren.Die Übersicht wird täglich aktualisiert – insgesamt eine Woche lang. \n\n\n\nWir sind gespannt\, was ihr alles so für Schätze zum Teilen habt. \n\n\n\nKontakt: team@wendeschleife-drewitz.de (E-Mail); 017632388706 (Telefon) – für Abgabe oder Abholung bitte Termin vereinbaren \n\n\n\nTeilnahme: Kostenlos
URL:http://wendeschleife-drewitz.de/termin/gartentreff-online-digitale-tauschwoche-fuer-saatgut-stecklinge-co/
LOCATION:Brandenburg
ATTACH;FMTTYPE=image/jpeg:http://wendeschleife-drewitz.de/wp-content/uploads/2021/02/IMG_3243-scaled.jpg
ORGANIZER;CN="Team%20Wendeschleife":MAILTO:team@wendeschleife-drewitz.de
END:VEVENT
BEGIN:VEVENT
DTSTART;TZID=Europe/Berlin:20210224T180000
DTEND;TZID=Europe/Berlin:20210224T193000
DTSTAMP:20260424T232610
CREATED:20210201T120938Z
LAST-MODIFIED:20210201T120939Z
UID:514-1614189600-1614195000@wendeschleife-drewitz.de
SUMMARY:NEU: Garten-Stammtisch Drewitz
DESCRIPTION:Seid dabei\, wenn zum ersten Mal der Drewitzer Garten-Stammtisch stattfindet!  \n\n\n\nWir freuen uns sehr\, nun endlich diese tolle Idee einiger Wendeschleife-Nutzer*innen umzusetzen. Der Stammtisch bietet einen Raum zum Kennenlernen und Vernetzen. Eingeladen sind alle\, die Freude oder Interesse am Gärtnern haben.  \n\n\n\nDer Stammtisch findet von nun an immer am letzten Mittwoch im Monat von 18:00 Uhr  bis 19:30 Uhr statt – Vorerst natürlich digital über zoom. \n\n\n\nAuch wenn wir noch kein geselliges Beisammensein wagen\, können wir auf diese Weise langsam die ersten Schritte Richtung Gartensaison gehen. \n\n\n\nHinweis: Wenn für euch eine Teilnahme über das Internet nicht möglich ist\, meldet euch gern bei uns und wir suchen gemeinsam eine individuell passende Lösung! \n\n\n\nAnmeldung: team@wendeschleife-drewitz.de (E-Mail); 017632388706 (Telefon); für Informationen zum Zugang \n\n\n\nTeilnahme: Kostenlos; über Zoom-Konferenz
URL:http://wendeschleife-drewitz.de/termin/neu-garten-stammtisch-drewitz/
LOCATION:Brandenburg
ORGANIZER;CN="Team%20Wendeschleife":MAILTO:team@wendeschleife-drewitz.de
END:VEVENT
END:VCALENDAR