BEGIN:VCALENDAR
VERSION:2.0
PRODID:-//Wendeschleife – Klimagarten im Quartier - ECPv6.0.9//NONSGML v1.0//EN
CALSCALE:GREGORIAN
METHOD:PUBLISH
X-ORIGINAL-URL:http://wendeschleife-drewitz.de
X-WR-CALDESC:Veranstaltungen für Wendeschleife – Klimagarten im Quartier
REFRESH-INTERVAL;VALUE=DURATION:PT1H
X-Robots-Tag:noindex
X-PUBLISHED-TTL:PT1H
BEGIN:VTIMEZONE
TZID:Europe/Berlin
BEGIN:DAYLIGHT
TZOFFSETFROM:+0100
TZOFFSETTO:+0200
TZNAME:CEST
DTSTART:20260329T010000
END:DAYLIGHT
BEGIN:STANDARD
TZOFFSETFROM:+0200
TZOFFSETTO:+0100
TZNAME:CET
DTSTART:20261025T010000
END:STANDARD
END:VTIMEZONE
BEGIN:VEVENT
DTSTART;TZID=Europe/Berlin:20260402T150000
DTEND;TZID=Europe/Berlin:20260402T180000
DTSTAMP:20260421T182057
CREATED:20260312T102913Z
LAST-MODIFIED:20260312T102915Z
UID:2133-1775142000-1775152800@wendeschleife-drewitz.de
SUMMARY:Ab in die Eier! Osterfeuer mit Livemusik
DESCRIPTION:Der Osterhase ist nicht mehr weit und wir heizen ihm nach einem kalten Winter schon etwas ein. Auf der Wendeschleife treffen wir uns zu feuriger Begegnung\, Gemütlichkeit und erweckenden\, musikalischen Klängen umsonst und draußen.
URL:http://wendeschleife-drewitz.de/termin/ab-in-die-eier-osterfeuer-mit-livemusik-2/
LOCATION:Klimagarten Wendeschleife Drewitz\, Konrad-Wolf-Allee / Slatan-Dudow-Straße\, 14480 Potsdam\, Brandenburg\, Deutschland
END:VEVENT
BEGIN:VEVENT
DTSTART;TZID=Europe/Berlin:20260402T190000
DTEND;TZID=Europe/Berlin:20260402T203000
DTSTAMP:20260421T182057
CREATED:20260220T123136Z
LAST-MODIFIED:20260220T123138Z
UID:2120-1775156400-1775161800@wendeschleife-drewitz.de
SUMMARY:Osterfeuer mit Livemusik
DESCRIPTION:Wir laden alle Drewitzerinnen\, Drewitzer und Interessierte herzlich auf die Wendeschleife rund um den Klimagarten ein mit uns feierlich die Ostertage mit einem Feuer einzuläuten. Euch erwartet ein buntes Mitmach-Programm in fröhlicher Atmosphäre und mit Leckereien. Wer einen eigenen Stand oder ein Angebot machen möchte\, setzt sich bitte bis 30.03. mit dem Wendeschleife-Team in Verbindung.
URL:http://wendeschleife-drewitz.de/termin/osterfeuer-mit-livemusik/
LOCATION:Klimagarten Wendeschleife Drewitz\, Konrad-Wolf-Allee / Slatan-Dudow-Straße\, 14480 Potsdam\, Brandenburg\, Deutschland
END:VEVENT
END:VCALENDAR