BEGIN:VCALENDAR
VERSION:2.0
PRODID:-//Wendeschleife – Klimagarten im Quartier - ECPv6.0.9//NONSGML v1.0//EN
CALSCALE:GREGORIAN
METHOD:PUBLISH
X-ORIGINAL-URL:http://wendeschleife-drewitz.de
X-WR-CALDESC:Veranstaltungen für Wendeschleife – Klimagarten im Quartier
REFRESH-INTERVAL;VALUE=DURATION:PT1H
X-Robots-Tag:noindex
X-PUBLISHED-TTL:PT1H
BEGIN:VTIMEZONE
TZID:Europe/Berlin
BEGIN:DAYLIGHT
TZOFFSETFROM:+0100
TZOFFSETTO:+0200
TZNAME:CEST
DTSTART:20260329T010000
END:DAYLIGHT
BEGIN:STANDARD
TZOFFSETFROM:+0200
TZOFFSETTO:+0100
TZNAME:CET
DTSTART:20261025T010000
END:STANDARD
END:VTIMEZONE
BEGIN:VEVENT
DTSTART;TZID=Europe/Berlin:20260314T100000
DTEND;TZID=Europe/Berlin:20260314T140000
DTSTAMP:20260421T182244
CREATED:20260218T132353Z
LAST-MODIFIED:20260218T132355Z
UID:2108-1773482400-1773496800@wendeschleife-drewitz.de
SUMMARY:Frühjahrsputz mit Potsdamer Plastikpiraten
DESCRIPTION:Dieses Jahr sagen wir gemeinsam mit den Potsdamer Plastikpiraten dem Unrat den Kampf an. Ihr könnt euch von 10:00 – 12:00 Uhr auf der Wendeschleife vor dem Bauwagen Müllsäcke\, Handschuhe und Greifer abholen und dann der Schmuddelecke eures Vertrauens den Kampf ansagen. Im oskar. wartet nach getaner Arbeit ein kräftigender Eintopf auf euch und während des Frühjahrsputzes stehen gesunde Snacks und Getränke zur Stärkung bereit. Mal schauen\, wie voll wir den Container bekommen…
URL:http://wendeschleife-drewitz.de/termin/fruehjahrsputz-mit-potsdamer-plastikpiraten/
LOCATION:Klimagarten Wendeschleife Drewitz\, Konrad-Wolf-Allee / Slatan-Dudow-Straße\, 14480 Potsdam\, Brandenburg\, Deutschland
END:VEVENT
END:VCALENDAR