BEGIN:VCALENDAR
VERSION:2.0
PRODID:-//Wendeschleife – Klimagarten im Quartier - ECPv6.0.9//NONSGML v1.0//EN
CALSCALE:GREGORIAN
METHOD:PUBLISH
X-WR-CALNAME:Wendeschleife – Klimagarten im Quartier
X-ORIGINAL-URL:http://wendeschleife-drewitz.de
X-WR-CALDESC:Veranstaltungen für Wendeschleife – Klimagarten im Quartier
REFRESH-INTERVAL;VALUE=DURATION:PT1H
X-Robots-Tag:noindex
X-PUBLISHED-TTL:PT1H
BEGIN:VTIMEZONE
TZID:Europe/Berlin
BEGIN:DAYLIGHT
TZOFFSETFROM:+0100
TZOFFSETTO:+0200
TZNAME:CEST
DTSTART:20210328T010000
END:DAYLIGHT
BEGIN:STANDARD
TZOFFSETFROM:+0200
TZOFFSETTO:+0100
TZNAME:CET
DTSTART:20211031T010000
END:STANDARD
END:VTIMEZONE
BEGIN:VEVENT
DTSTART;TZID=Europe/Berlin:20210701T080000
DTEND;TZID=Europe/Berlin:20210930T170000
DTSTAMP:20260422T205323
CREATED:20210720T091537Z
LAST-MODIFIED:20210720T091538Z
UID:827-1625126400-1633021200@wendeschleife-drewitz.de
SUMMARY:Fotowettbewerb - Mein Drewitz im Sommer
DESCRIPTION:Unser beliebter Fotowettbewerb geht nun schon in die dritte Runde und dieses Mal ist es der Sommer mit seinen leuchtenden Farben und buntem Treiben\, der vor die Linsen kommt!  \n\n\n\nWelche Motive stehen für euer Drewitz im Sommer? Das Grüne Kreuz mit dem Wasserspiel? Der gelbgoldene Sonnenuntergang vom Balkon aus? Fangt mit der Kamera ein\, was euch begeistert und euch über den Sommer begleitet – eure Lieblingsmotive.Wie immer ein kleiner Hinweis: Es wird nicht zwangsläufig nur das „typischste“ oder „hübscheste“ Bild gekürt. Um eine Jahreszeit repräsentieren zu können\, kann es auch mehrere erste Plätze geben… 😉  \n\n\n\nScheut euch also nicht\, auch etwas unkonventionellere Bilder vom Sommer zu machen. \n\n\n\nTeilnahme: Pro Person bis zu drei Fotos\, jeweils mit Titel\, an team@wendeschleife-drewitz.de \n\n\n\nEinsendeschluss: 30. September 2021 \n\n\n\nWir sind schon sehr gespannt und freuen uns auf eure Einsendungen. Eure Fotos wollen wir auch gern für kleine Ausstellungen verwenden. Also je abwechslungsreicher\, desto besser 😉
URL:http://wendeschleife-drewitz.de/termin/fotowettbewerb-mein-drewitz-im-sommer/
LOCATION:Brandenburg
ATTACH;FMTTYPE=image/jpeg:http://wendeschleife-drewitz.de/wp-content/uploads/2021/04/camera-2598507_1920.jpg
ORGANIZER;CN="Team%20Wendeschleife":MAILTO:team@wendeschleife-drewitz.de
END:VEVENT
BEGIN:VEVENT
DTSTART;TZID=Europe/Berlin:20210929T163000
DTEND;TZID=Europe/Berlin:20210929T180000
DTSTAMP:20260422T205324
CREATED:20210923T181955Z
LAST-MODIFIED:20210923T182541Z
UID:903-1632933000-1632938400@wendeschleife-drewitz.de
SUMMARY:Gartentreff: Offenes Gärtnern
DESCRIPTION:Jäten\, gießen\, werkeln\, ernten: Kommt vorbei und macht mit\, wir freuen uns auf gemeinsames Tun! Immer mittwochs gärtnern\, bauen oder quatschen wir im Klimagarten auf der Wendeschleife. Manchmal verschlägt es uns dabei auch an die anderen Essbaren Orte im Quartier… \n\n\n\nWeitere Termine: 06. / 13. und 20. OktoberMitbringen: Mund-Nase-Schutz und Lust auf Betätigung im Freien Teilnahme: Kostenfrei
URL:http://wendeschleife-drewitz.de/termin/gartentreff-offenes-gaertnern-23/
LOCATION:Brandenburg
END:VEVENT
END:VCALENDAR