BEGIN:VCALENDAR
VERSION:2.0
PRODID:-//Wendeschleife – Klimagarten im Quartier - ECPv6.0.9//NONSGML v1.0//EN
CALSCALE:GREGORIAN
METHOD:PUBLISH
X-ORIGINAL-URL:http://wendeschleife-drewitz.de
X-WR-CALDESC:Veranstaltungen für Wendeschleife – Klimagarten im Quartier
REFRESH-INTERVAL;VALUE=DURATION:PT1H
X-Robots-Tag:noindex
X-PUBLISHED-TTL:PT1H
BEGIN:VTIMEZONE
TZID:Europe/Berlin
BEGIN:DAYLIGHT
TZOFFSETFROM:+0100
TZOFFSETTO:+0200
TZNAME:CEST
DTSTART:20210328T010000
END:DAYLIGHT
BEGIN:STANDARD
TZOFFSETFROM:+0200
TZOFFSETTO:+0100
TZNAME:CET
DTSTART:20211031T010000
END:STANDARD
END:VTIMEZONE
BEGIN:VEVENT
DTSTART;TZID=Europe/Berlin:20210401T080000
DTEND;TZID=Europe/Berlin:20210630T170000
DTSTAMP:20260424T202359
CREATED:20210424T170553Z
LAST-MODIFIED:20210424T170554Z
UID:747-1617264000-1625072400@wendeschleife-drewitz.de
SUMMARY:Mein Drewitz im Frühling
DESCRIPTION:Nach dem großen Erfolg des Winterfoto-Wettbewerbs geht’s nun in die Frühjahrs-Runde! Wohl kaum eine Jahreszeit verändert in ihrem Verlauf das Gesicht so rasant wie der Frühling. Wie zeigt sich für euch die Vielseitigkeit des Frühjahrs in Drewitz? Fangt mit der Kamera ein\, was ihr nur im April\, Mai und Juni zu sehen bekommt und schickt uns eure Lieb-lingsmotive.Lasst dabei eurer Kreativität ruhig freien Lauf: Es wird nicht zwangsläufig nur das „typischste“ oder „hübscheste“ Bild gekürt. Um eine Jahreszeit repräsentieren zu können\, muss es ganz bestimmt mehrere erste Plätze geben… 😉 Scheut euch also nicht\, auch etwas unkonventionellere Bilder vom Frühling zu machen. \n\n\n\nTeilnahme: Pro Person bis zu drei Fotos\, jeweils mit Titel\, an team@wendeschleife-drewitz.de \n\n\n\nEinsendeschluss: 30. Juni 2021 \n\n\n\nWir sind schon sehr gespannt und freuen uns auf eure Einsendungen\, die wir auch wieder für eine kleine Ausstellung verwenden.
URL:http://wendeschleife-drewitz.de/termin/mein-drewitz-im-fruehling/
LOCATION:Brandenburg
ATTACH;FMTTYPE=image/jpeg:http://wendeschleife-drewitz.de/wp-content/uploads/2021/04/camera-2598507_1920.jpg
ORGANIZER;CN="Team%20Wendeschleife":MAILTO:team@wendeschleife-drewitz.de
END:VEVENT
BEGIN:VEVENT
DTSTART;TZID=Europe/Berlin:20210526T160000
DTEND;TZID=Europe/Berlin:20210526T173000
DTSTAMP:20260424T202359
CREATED:20210504T103814Z
LAST-MODIFIED:20210504T103816Z
UID:776-1622044800-1622050200@wendeschleife-drewitz.de
SUMMARY:Gartentreff - Offenes Gärtnern
DESCRIPTION:Bis auf Weiteres wird das „Offene Gärtnern“ ausgesetzt. Die Beetbetreuung kann individuell stattfinden unter Einhaltung der geltenden Eindämmungsverordnung. Bitte haltet euch an die Hygienevorgaben für die Wendeschleife. Sie sind am Infoschild veröffentlicht. \n\n\n\nJeder ist eingeladen mitzugärtnern\, im Klimagarten und in den Essbaren Innenhöfen – immer mittwochs! Abweichende Einsatzorte oder besondere Mini-Aktionen veröffentlichen wir vorab auf unserem Blog. Wenn ihr Fragen habt\, dann schreibt uns oder ruft kurz an.
URL:http://wendeschleife-drewitz.de/termin/gartentreff-offenes-gaertnern-11/
LOCATION:Brandenburg
ATTACH;FMTTYPE=image/jpeg:http://wendeschleife-drewitz.de/wp-content/uploads/2020/09/Ausstellungstafel.jpg
END:VEVENT
BEGIN:VEVENT
DTSTART;TZID=Europe/Berlin:20210526T160000
DTEND;TZID=Europe/Berlin:20210526T193000
DTSTAMP:20260424T202359
CREATED:20210222T155241Z
LAST-MODIFIED:20210416T074555Z
UID:570-1622044800-1622057400@wendeschleife-drewitz.de
SUMMARY:Hoffest „Essbare Gartenstadt“
DESCRIPTION:Feiert mit uns den neuen Essbaren Innenhof in Quartier 13. Zum Hoffest gibt es erst einen kleinen Spaziergang durch die „Essbare Gartenstadt“. Anschließend nutzen wir das frühsommerliche Beisammensein\, um uns auszutauschen und neue Pläne zu schmieden. Zu diesem Anlass findet auch der monatliche Gartenstammtisch Drewitz dieses Mal draußen statt – mit spannenden Diskussionen und Expert*innen vor Ort! \n\n\n\nAnmeldung: Je nach Invektionsgeschehen und Eindämmungsverordnung braucht es eine Anmeldung. Wir veröffentlichen das zeitnah hier. \n\n\n\nOrt: Innenhof Wolfgang-Staudte-Straße/Günter-Simon-Straße/Willi-Schiller-Weg
URL:http://wendeschleife-drewitz.de/termin/hoffest-essbare-gartenstadt/
LOCATION:Brandenburg
ORGANIZER;CN="Team%20Wendeschleife":MAILTO:team@wendeschleife-drewitz.de
END:VEVENT
END:VCALENDAR