BEGIN:VCALENDAR
VERSION:2.0
PRODID:-//Wendeschleife – Klimagarten im Quartier - ECPv6.0.9//NONSGML v1.0//EN
CALSCALE:GREGORIAN
METHOD:PUBLISH
X-WR-CALNAME:Wendeschleife – Klimagarten im Quartier
X-ORIGINAL-URL:http://wendeschleife-drewitz.de
X-WR-CALDESC:Veranstaltungen für Wendeschleife – Klimagarten im Quartier
REFRESH-INTERVAL;VALUE=DURATION:PT1H
X-Robots-Tag:noindex
X-PUBLISHED-TTL:PT1H
BEGIN:VTIMEZONE
TZID:Europe/Berlin
BEGIN:DAYLIGHT
TZOFFSETFROM:+0100
TZOFFSETTO:+0200
TZNAME:CEST
DTSTART:20210328T010000
END:DAYLIGHT
BEGIN:STANDARD
TZOFFSETFROM:+0200
TZOFFSETTO:+0100
TZNAME:CET
DTSTART:20211031T010000
END:STANDARD
END:VTIMEZONE
BEGIN:VEVENT
DTSTART;TZID=Europe/Berlin:20210310T160000
DTEND;TZID=Europe/Berlin:20210310T180000
DTSTAMP:20260424T232509
CREATED:20210308T160748Z
LAST-MODIFIED:20210308T160822Z
UID:593-1615392000-1615399200@wendeschleife-drewitz.de
SUMMARY:Gartentreff - offenes Gärtnern
DESCRIPTION:Wir lassen die Gartensaison beginnen und sind von nun an wieder regelmäßig am Mittwoch draußen. Seid herzlich eingeladen\, im Klimagarten und in den Essbaren Innenhöfen mit zu gärtnern! Abweichende Einsatzorte oder besondere Mini-Aktionen veröffentlichen wir vorab auf unserem Blog. Wegen Corona meldet euch bitte an\, wenn ihr zum offenen Gärtnern kommen wollt.
URL:http://wendeschleife-drewitz.de/termin/gartentreff-offenes-gaertnern/
LOCATION:Brandenburg
ATTACH;FMTTYPE=image/jpeg:http://wendeschleife-drewitz.de/wp-content/uploads/2020/04/Sommerblumenbeet_klein.jpg
ORGANIZER;CN="Team%20Wendeschleife":MAILTO:team@wendeschleife-drewitz.de
END:VEVENT
END:VCALENDAR