BEGIN:VCALENDAR
VERSION:2.0
PRODID:-//Wendeschleife – Klimagarten im Quartier - ECPv6.0.9//NONSGML v1.0//EN
CALSCALE:GREGORIAN
METHOD:PUBLISH
X-WR-CALNAME:Wendeschleife – Klimagarten im Quartier
X-ORIGINAL-URL:http://wendeschleife-drewitz.de
X-WR-CALDESC:Veranstaltungen für Wendeschleife – Klimagarten im Quartier
REFRESH-INTERVAL;VALUE=DURATION:PT1H
X-Robots-Tag:noindex
X-PUBLISHED-TTL:PT1H
BEGIN:VTIMEZONE
TZID:Europe/Berlin
BEGIN:DAYLIGHT
TZOFFSETFROM:+0100
TZOFFSETTO:+0200
TZNAME:CEST
DTSTART:20210328T010000
END:DAYLIGHT
BEGIN:STANDARD
TZOFFSETFROM:+0200
TZOFFSETTO:+0100
TZNAME:CET
DTSTART:20211031T010000
END:STANDARD
END:VTIMEZONE
BEGIN:VEVENT
DTSTART;TZID=Europe/Berlin:20210306T110000
DTEND;TZID=Europe/Berlin:20210306T140000
DTSTAMP:20260424T232438
CREATED:20210222T154214Z
LAST-MODIFIED:20210224T203106Z
UID:556-1615028400-1615039200@wendeschleife-drewitz.de
SUMMARY:Wir lassen den Essbaren Innenhof wachsen
DESCRIPTION:Wir laden euch ein zur ersten Pflanzaktion der Saison 2021!  \n\n\n\nOb die im Herbst gepflanzten Obststräucher im Essbaren Innenhof (Quartier 13) gut durch den Winter gekommen sind? Wir bereiten die Fläche auf den Frühling vor und ergänzen noch weitere Obststräucher.  \n\n\n\nWir haben die Eindämmungsverordnung im Blick. Daher meldet euch bei uns und wir besprechen mit euch\, wie ihr teilnehmen könnt.  \n\n\n\n Ort: \n\n\n\nEssbarer Innenhof \n\n\n\nWolfgang-Staudte-Straße/Günter-Simon-Straße/Willi-Schiller-Weg \n\n\n\nAnmeldung: Bitte bis zum 04.03. gerne per E-Mail oder Über unser Wendeschleifen-Handy.
URL:http://wendeschleife-drewitz.de/termin/wir-lassen-den-essbaren-innenhof-wachsen/
LOCATION:Brandenburg
ORGANIZER;CN="Team%20Wendeschleife":MAILTO:team@wendeschleife-drewitz.de
END:VEVENT
END:VCALENDAR