BEGIN:VCALENDAR
VERSION:2.0
PRODID:-//Wendeschleife – Klimagarten im Quartier - ECPv6.0.9//NONSGML v1.0//EN
CALSCALE:GREGORIAN
METHOD:PUBLISH
X-WR-CALNAME:Wendeschleife – Klimagarten im Quartier
X-ORIGINAL-URL:http://wendeschleife-drewitz.de
X-WR-CALDESC:Veranstaltungen für Wendeschleife – Klimagarten im Quartier
REFRESH-INTERVAL;VALUE=DURATION:PT1H
X-Robots-Tag:noindex
X-PUBLISHED-TTL:PT1H
BEGIN:VTIMEZONE
TZID:Europe/Berlin
BEGIN:DAYLIGHT
TZOFFSETFROM:+0100
TZOFFSETTO:+0200
TZNAME:CEST
DTSTART:20210328T010000
END:DAYLIGHT
BEGIN:STANDARD
TZOFFSETFROM:+0200
TZOFFSETTO:+0100
TZNAME:CET
DTSTART:20211031T010000
END:STANDARD
END:VTIMEZONE
BEGIN:VEVENT
DTSTART;TZID=Europe/Berlin:20210224T160000
DTEND;TZID=Europe/Berlin:20210303T180000
DTSTAMP:20260424T232438
CREATED:20210201T115024Z
LAST-MODIFIED:20210207T155818Z
UID:511-1614182400-1614794400@wendeschleife-drewitz.de
SUMMARY:Gartentreff *online*: Digitale Tauschwoche für Saatgut\, Stecklinge & Co.
DESCRIPTION:Zu viele Chili-Samen aber keine Tomaten? Thymian on masse aber Zitronen-Melisse fehlt noch? Wir starten eine interaktive Tauschbörse für Saatgut\, Pflanzenableger & Co. \n\n\n\nDas Prinzip:1. Wer etwas abzugeben hat\, bringt es ab sofort im oskar. vorbei.Achtung: Hierfür bitte Termin per team@wendeschleife-drewitz.de oder telefonisch mit uns vereinbaren! \n\n\n\n2. Wir sammeln alles und veröffentlichen am Mittwoch\, den 24.02. um 16:00 Uhr eine Übersicht auf unserer Homepage. \n\n\n\n3. Eine Woche lang könnt ihr stöbern und wenn etwas dabei ist\, mit uns wiederum jederzeit einen Abholtermin dafür vereinbaren.Die Übersicht wird täglich aktualisiert – insgesamt eine Woche lang. \n\n\n\nWir sind gespannt\, was ihr alles so für Schätze zum Teilen habt. \n\n\n\nKontakt: team@wendeschleife-drewitz.de (E-Mail); 017632388706 (Telefon) – für Abgabe oder Abholung bitte Termin vereinbaren \n\n\n\nTeilnahme: Kostenlos
URL:http://wendeschleife-drewitz.de/termin/gartentreff-online-digitale-tauschwoche-fuer-saatgut-stecklinge-co/
LOCATION:Brandenburg
ATTACH;FMTTYPE=image/jpeg:http://wendeschleife-drewitz.de/wp-content/uploads/2021/02/IMG_3243-scaled.jpg
ORGANIZER;CN="Team%20Wendeschleife":MAILTO:team@wendeschleife-drewitz.de
END:VEVENT
END:VCALENDAR